BEGIN:VCALENDAR
VERSION:2.0
PRODID:-//Centrica Care Navigators - ECPv6.15.20//NONSGML v1.0//EN
CALSCALE:GREGORIAN
METHOD:PUBLISH
X-WR-CALNAME:Centrica Care Navigators
X-ORIGINAL-URL:https://centricacare.org
X-WR-CALDESC:Events for Centrica Care Navigators
REFRESH-INTERVAL;VALUE=DURATION:PT1H
X-Robots-Tag:noindex
X-PUBLISHED-TTL:PT1H
BEGIN:VTIMEZONE
TZID:America/Detroit
BEGIN:DAYLIGHT
TZOFFSETFROM:-0500
TZOFFSETTO:-0400
TZNAME:EDT
DTSTART:20240310T070000
END:DAYLIGHT
BEGIN:STANDARD
TZOFFSETFROM:-0400
TZOFFSETTO:-0500
TZNAME:EST
DTSTART:20241103T060000
END:STANDARD
BEGIN:DAYLIGHT
TZOFFSETFROM:-0500
TZOFFSETTO:-0400
TZNAME:EDT
DTSTART:20250309T070000
END:DAYLIGHT
BEGIN:STANDARD
TZOFFSETFROM:-0400
TZOFFSETTO:-0500
TZNAME:EST
DTSTART:20251102T060000
END:STANDARD
BEGIN:DAYLIGHT
TZOFFSETFROM:-0500
TZOFFSETTO:-0400
TZNAME:EDT
DTSTART:20260308T070000
END:DAYLIGHT
BEGIN:STANDARD
TZOFFSETFROM:-0400
TZOFFSETTO:-0500
TZNAME:EST
DTSTART:20261101T060000
END:STANDARD
END:VTIMEZONE
BEGIN:VEVENT
DTSTART;TZID=America/Detroit:20250112T140000
DTEND;TZID=America/Detroit:20250112T153000
DTSTAMP:20260420T033100
CREATED:20250110T202335Z
LAST-MODIFIED:20250110T202336Z
UID:10000121-1736690400-1736695800@centricacare.org
SUMMARY:Grief Walkers
DESCRIPTION:Ongoing drop-in social support walking group.  All fitness levels welcome! This is an opportunity for walkers to make connections with others and grow around grief. \nThis group is held on the 2nd Sunday of every month at 2:00pm \nMeet at Portage Creek Bicentennial Trail\, Portage\, MI. \nRegistration is not required. \nSign up for a monthly email reminder via the form below or subscribe to this event by clicking the orange ‘Add to calendar’ button below. \nPlease enable JavaScript in your browser to complete this form.Name *FirstLastEmail *Phone *Sign up for the monthly Walking Through Grief reminder email from JillYesComment or MessageCustom Captcha *			\n				\n											\n						\n						\n											=\n				\n								\n				\n				\n			\n			Submit
URL:https://centricacare.org/event/grief-walkers-2/
LOCATION:Portage Creek Bicentennial Trail\, 910 E Milham Avenue\, Portage\, MI\, 49002\, United States
CATEGORIES:Grief Support
END:VEVENT
BEGIN:VEVENT
DTSTART;TZID=America/Detroit:20250109T170000
DTEND;TZID=America/Detroit:20250109T181500
DTSTAMP:20260420T033100
CREATED:20241231T161331Z
LAST-MODIFIED:20250114T174809Z
UID:10000047-1736442000-1736446500@centricacare.org
SUMMARY:Grieving Parents (loss of a child)
DESCRIPTION:Our six-week support group for parents grieving the death of a child of any age beyond infancy. \nThis group will be held weekly on Thursdays from January 16\, 2025 through February 20\, 2025 from 5:00pm-6:15pm. \n  \nRegistration is required. \nPlease call 269-345-0273 or sign up via the form below. \nPlease enable JavaScript in your browser to complete this form.Name *FirstLastEmail *Phone *Sign up for Grief Navigator our monthly grief support newsletterYesComment or MessageSubmit
URL:https://centricacare.org/event/grieving-parents-2/2025-01-09/
LOCATION:Centrica Care Navigators 7100 Stadium Drive Kalamazoo MI. 49009\, 7100 Stadium Drive\, Kalamazoo\, 49009\, United States
CATEGORIES:Grief Support,In Person Event
END:VEVENT
END:VCALENDAR