BEGIN:VCALENDAR
VERSION:2.0
PRODID:-//Centrica Care Navigators - ECPv6.15.20//NONSGML v1.0//EN
CALSCALE:GREGORIAN
METHOD:PUBLISH
X-WR-CALNAME:Centrica Care Navigators
X-ORIGINAL-URL:https://centricacare.org
X-WR-CALDESC:Events for Centrica Care Navigators
REFRESH-INTERVAL;VALUE=DURATION:PT1H
X-Robots-Tag:noindex
X-PUBLISHED-TTL:PT1H
BEGIN:VTIMEZONE
TZID:America/Detroit
BEGIN:DAYLIGHT
TZOFFSETFROM:-0500
TZOFFSETTO:-0400
TZNAME:EDT
DTSTART:20240310T070000
END:DAYLIGHT
BEGIN:STANDARD
TZOFFSETFROM:-0400
TZOFFSETTO:-0500
TZNAME:EST
DTSTART:20241103T060000
END:STANDARD
BEGIN:DAYLIGHT
TZOFFSETFROM:-0500
TZOFFSETTO:-0400
TZNAME:EDT
DTSTART:20250309T070000
END:DAYLIGHT
BEGIN:STANDARD
TZOFFSETFROM:-0400
TZOFFSETTO:-0500
TZNAME:EST
DTSTART:20251102T060000
END:STANDARD
BEGIN:DAYLIGHT
TZOFFSETFROM:-0500
TZOFFSETTO:-0400
TZNAME:EDT
DTSTART:20260308T070000
END:DAYLIGHT
BEGIN:STANDARD
TZOFFSETFROM:-0400
TZOFFSETTO:-0500
TZNAME:EST
DTSTART:20261101T060000
END:STANDARD
END:VTIMEZONE
BEGIN:VEVENT
DTSTART;TZID=America/Detroit:20250311T173000
DTEND;TZID=America/Detroit:20250311T190000
DTSTAMP:20260419T221450
CREATED:20250214T162228Z
LAST-MODIFIED:20250302T135327Z
UID:10000223-1741714200-1741719600@centricacare.org
SUMMARY:Volunteer In-Service Training: Boundaries
DESCRIPTION:This session will outline the importance of maintaining professional boundaries between hospice volunteers and the patients and families they serve. The session will cover situations where boundaries can become blurred and give many examples of compassionate ways to set limits and maintain ethical boundaries. \n  \nPlease enable JavaScript in your browser to complete this form.Name (copy) *FirstLast		\n			Which If (copy)\n			\n		\n		Email *Which SessionBoundaries June 24Best Friends September 9Boundaries September 16RSVPJust meBringing a +1If you're bringing someone\, let us know their nameFirstLastCommentsSubmit
URL:https://centricacare.org/event/volunteer-in-service-training-boundaries/2025-03-11/
LOCATION:Centrica Care Navigators 7100 Stadium Drive Kalamazoo MI. 49009\, 7100 Stadium Drive\, Kalamazoo\, 49009\, United States
CATEGORIES:In Person Event,Volunteers
END:VEVENT
BEGIN:VEVENT
DTSTART;TZID=America/Detroit:20250326T140000
DTEND;TZID=America/Detroit:20250326T153000
DTSTAMP:20260419T221450
CREATED:20250214T203147Z
LAST-MODIFIED:20250214T203328Z
UID:10000229-1742997600-1743003000@centricacare.org
SUMMARY:Volunteer Services Statewide Virtual Book Club Zoom Meeting
DESCRIPTION:Our selection is: In My Time of Dying: How I Came Face to Face with the Idea of an Afterlife by Sebastian Junger \n\n\nPlease sign up below. We will send you the Zoom link before the event.\n\nPlease enable JavaScript in your browser to complete this form.Name (copy) *FirstLast		\n			Email (copy) Comments\n			\n		\n		Email *CommentsSubmit
URL:https://centricacare.org/event/volunteer-services-statewide-virtual-book-club-zoom-meeting/
LOCATION:Centrica Care Navigators 7100 Stadium Drive Kalamazoo MI. 49009\, 7100 Stadium Drive\, Kalamazoo\, 49009\, United States
CATEGORIES:Virtual Event,Volunteers
END:VEVENT
END:VCALENDAR