BEGIN:VCALENDAR
VERSION:2.0
PRODID:-//Centrica Care Navigators - ECPv6.15.20//NONSGML v1.0//EN
CALSCALE:GREGORIAN
METHOD:PUBLISH
X-ORIGINAL-URL:https://centricacare.org
X-WR-CALDESC:Events for Centrica Care Navigators
REFRESH-INTERVAL;VALUE=DURATION:PT1H
X-Robots-Tag:noindex
X-PUBLISHED-TTL:PT1H
BEGIN:VTIMEZONE
TZID:America/Detroit
BEGIN:DAYLIGHT
TZOFFSETFROM:-0500
TZOFFSETTO:-0400
TZNAME:EDT
DTSTART:20240310T070000
END:DAYLIGHT
BEGIN:STANDARD
TZOFFSETFROM:-0400
TZOFFSETTO:-0500
TZNAME:EST
DTSTART:20241103T060000
END:STANDARD
BEGIN:DAYLIGHT
TZOFFSETFROM:-0500
TZOFFSETTO:-0400
TZNAME:EDT
DTSTART:20250309T070000
END:DAYLIGHT
BEGIN:STANDARD
TZOFFSETFROM:-0400
TZOFFSETTO:-0500
TZNAME:EST
DTSTART:20251102T060000
END:STANDARD
BEGIN:DAYLIGHT
TZOFFSETFROM:-0500
TZOFFSETTO:-0400
TZNAME:EDT
DTSTART:20260308T070000
END:DAYLIGHT
BEGIN:STANDARD
TZOFFSETFROM:-0400
TZOFFSETTO:-0500
TZNAME:EST
DTSTART:20261101T060000
END:STANDARD
END:VTIMEZONE
BEGIN:VEVENT
DTSTART;TZID=America/Detroit:20250619T130000
DTEND;TZID=America/Detroit:20250619T150000
DTSTAMP:20260420T004511
CREATED:20250214T161737Z
LAST-MODIFIED:20250214T173420Z
UID:10000218-1750338000-1750345200@centricacare.org
SUMMARY:Volunteer In-Service Training: Best Friends™
DESCRIPTION:The Best Friends™ Approach redefines how we can enhance the lives of individuals living with Alzheimer’s and dementia. The Best Friends™ Approach is easy to master and apply. Learn more in this in-person training opportunity. \n  \nPlease enable JavaScript in your browser to complete this form.Name (copy) *FirstLast		\n			(copy) you're Session\n			\n		\n		Email *Which SessionBoundaries June 24Best Friends September 9Boundaries September 16RSVPJust meBringing a +1If you're bringing someone\, let us know their nameFirstLastCommentsSubmit
URL:https://centricacare.org/event/volunteer-in-service-training-best-friends/2025-06-19/
LOCATION:Centrica Care Navigators 7100 Stadium Drive Kalamazoo MI. 49009\, 7100 Stadium Drive\, Kalamazoo\, 49009\, United States
CATEGORIES:Volunteers
END:VEVENT
END:VCALENDAR