BEGIN:VCALENDAR
VERSION:2.0
PRODID:-//Centrica Care Navigators - ECPv6.15.20//NONSGML v1.0//EN
CALSCALE:GREGORIAN
METHOD:PUBLISH
X-WR-CALNAME:Centrica Care Navigators
X-ORIGINAL-URL:https://centricacare.org
X-WR-CALDESC:Events for Centrica Care Navigators
REFRESH-INTERVAL;VALUE=DURATION:PT1H
X-Robots-Tag:noindex
X-PUBLISHED-TTL:PT1H
BEGIN:VTIMEZONE
TZID:America/Detroit
BEGIN:DAYLIGHT
TZOFFSETFROM:-0500
TZOFFSETTO:-0400
TZNAME:EDT
DTSTART:20240310T070000
END:DAYLIGHT
BEGIN:STANDARD
TZOFFSETFROM:-0400
TZOFFSETTO:-0500
TZNAME:EST
DTSTART:20241103T060000
END:STANDARD
BEGIN:DAYLIGHT
TZOFFSETFROM:-0500
TZOFFSETTO:-0400
TZNAME:EDT
DTSTART:20250309T070000
END:DAYLIGHT
BEGIN:STANDARD
TZOFFSETFROM:-0400
TZOFFSETTO:-0500
TZNAME:EST
DTSTART:20251102T060000
END:STANDARD
BEGIN:DAYLIGHT
TZOFFSETFROM:-0500
TZOFFSETTO:-0400
TZNAME:EDT
DTSTART:20260308T070000
END:DAYLIGHT
BEGIN:STANDARD
TZOFFSETFROM:-0400
TZOFFSETTO:-0500
TZNAME:EST
DTSTART:20261101T060000
END:STANDARD
END:VTIMEZONE
BEGIN:VEVENT
DTSTART;TZID=America/Detroit:20250619T130000
DTEND;TZID=America/Detroit:20250619T150000
DTSTAMP:20260419T170644
CREATED:20250214T161737Z
LAST-MODIFIED:20250214T173420Z
UID:10000218-1750338000-1750345200@centricacare.org
SUMMARY:Volunteer In-Service Training: Best Friends™
DESCRIPTION:The Best Friends™ Approach redefines how we can enhance the lives of individuals living with Alzheimer’s and dementia. The Best Friends™ Approach is easy to master and apply. Learn more in this in-person training opportunity. \n  \nPlease enable JavaScript in your browser to complete this form.Name (copy) *FirstLastEmail *Which SessionBoundaries June 24Best Friends September 9Boundaries September 16RSVPJust meBringing a +1		\n			Name us know\n			\n		\n		If you're bringing someone\, let us know their nameFirstLastCommentsSubmit
URL:https://centricacare.org/event/volunteer-in-service-training-best-friends/2025-06-19/
LOCATION:Centrica Care Navigators 7100 Stadium Drive Kalamazoo MI. 49009\, 7100 Stadium Drive\, Kalamazoo\, 49009\, United States
CATEGORIES:Volunteers
END:VEVENT
BEGIN:VEVENT
DTSTART;TZID=America/Detroit:20250624T130000
DTEND;TZID=America/Detroit:20250624T150000
DTSTAMP:20260419T170644
CREATED:20250214T162228Z
LAST-MODIFIED:20250302T135327Z
UID:10000224-1750770000-1750777200@centricacare.org
SUMMARY:Volunteer In-Service Training: Boundaries
DESCRIPTION:This session will outline the importance of maintaining professional boundaries between hospice volunteers and the patients and families they serve. The session will cover situations where boundaries can become blurred and give many examples of compassionate ways to set limits and maintain ethical boundaries. \n  \nPlease enable JavaScript in your browser to complete this form.Name (copy) *FirstLastEmail *Which SessionBoundaries June 24Best Friends September 9Boundaries September 16RSVPJust meBringing a +1If you're bringing someone\, let us know their nameFirstLast		\n			Session let their\n			\n		\n		CommentsSubmit
URL:https://centricacare.org/event/volunteer-in-service-training-boundaries/2025-06-24/
LOCATION:Centrica Care Navigators 7100 Stadium Drive Kalamazoo MI. 49009\, 7100 Stadium Drive\, Kalamazoo\, 49009\, United States
CATEGORIES:In Person Event,Volunteers
END:VEVENT
BEGIN:VEVENT
DTSTART;TZID=America/Detroit:20250627T080000
DTEND;TZID=America/Detroit:20250627T170000
DTSTAMP:20260419T170644
CREATED:20250225T161505Z
LAST-MODIFIED:20250611T191801Z
UID:10000302-1751011200-1751043600@centricacare.org
SUMMARY:Journeys Camp Good Grief
DESCRIPTION:REGISTRATION IS CLOSED FOR THIS EVENT \n\n  \nJoin Us for Camp Good Grief!\nA Free One Day Camp for Kids Ages 5-17 Who Have Experienced the Death of a Loved One \n\nFriday June 27\, 2025 8am-5pm\nCamp Good Grief offers a supportive and fun-filled environment where children can connect with others who share similar experiences. Camp Good Grief blends traditional camp activities with grief education and emotional support.  Camp Good Grief will be located at the Girl Scouts Heart of Michigan Camp Merrie Woode in Plainwell\, MI.\nCamp Merrie Woode features acres of natural woodlands\, and exciting camp activities designed to bring joy\, healing\, and connection. All activities are facilitated by caring and qualified Centrica Care Navigators grief professionals\, music therapists and volunteers.\nDates & Registration Info:\nFor questions or more information\, please contact:\nKim Courtney at kcourtney@hom.org • 269-303-3740\nRegistration deadline: June 6\, 2025.
URL:https://centricacare.org/event/journeys-camp-good-grief/
LOCATION:Camp Merrie Woode\, 12584 Burchette Rd\, Plainwell\, MI\, 49080\, United States
CATEGORIES:Grief Support,In Person Event
END:VEVENT
END:VCALENDAR